BEGIN:VCALENDAR
VERSION:2.0
PRODID:-//Squarespace Inc/Squarespace 6//v6//EN
BEGIN:VEVENT
UID:5e695f47e8738031acde2904@squarespace.com
DTSTAMP:20200312T004741Z
DTSTART:20200327T210000Z
DTEND:20200328T070000Z
SUMMARY:Gold Coast City Election
END:VEVENT
END:VCALENDAR
