BEGIN:VCALENDAR
VERSION:2.0
PRODID:-//Squarespace Inc/Squarespace 6//v6//EN
BEGIN:VEVENT
UID:5ea27e5665f57917364f5a67@squarespace.com
DTSTAMP:20200424T055743Z
DTSTART:20200424T230000Z
DTEND:20200425T000000Z
SUMMARY:ANZAC Day Commemoration Service 2020 | Online
GEO:-28.090516;153.366288
LOCATION:Mudgeeraba
END:VEVENT
END:VCALENDAR
