BEGIN:VCALENDAR
VERSION:2.0
PRODID:-//Squarespace Inc/Squarespace 6//v6//EN
BEGIN:VEVENT
UID:5ea27ff16c6f425a7ebc97cc@squarespace.com
DTSTAMP:20200424T060238Z
DTSTART:20200430T090000Z
DTEND:20200430T100000Z
SUMMARY:2020 Virtual Gold Coast Music Awards
GEO:-28.0;153.416667
LOCATION:Surfers Paradise
END:VEVENT
END:VCALENDAR
