BEGIN:VCALENDAR
VERSION:2.0
PRODID:-//Squarespace Inc/Squarespace 6//v6//EN
BEGIN:VEVENT
UID:5e69828e3a8ab94d06249dbf@squarespace.com
DTSTAMP:20200312T004452Z
DTSTART:20200327T210000Z
DTEND:20200328T050000Z
SUMMARY:Mudgeeraba Community Gem Show
END:VEVENT
END:VCALENDAR
